
BEGIN:VCALENDAR
VERSION:2.0
PRODID:-//Paddle Antrim - Antrim County Michigan - ECPv6.15.20//NONSGML v1.0//EN
CALSCALE:GREGORIAN
METHOD:PUBLISH
X-WR-CALNAME:Paddle Antrim - Antrim County Michigan
X-ORIGINAL-URL:https://www.paddleantrim.com
X-WR-CALDESC:Events for Paddle Antrim - Antrim County Michigan
REFRESH-INTERVAL;VALUE=DURATION:PT1H
X-Robots-Tag:noindex
X-PUBLISHED-TTL:PT1H
BEGIN:VTIMEZONE
TZID:America/Detroit
BEGIN:DAYLIGHT
TZOFFSETFROM:-0500
TZOFFSETTO:-0400
TZNAME:EDT
DTSTART:20250309T070000
END:DAYLIGHT
BEGIN:STANDARD
TZOFFSETFROM:-0400
TZOFFSETTO:-0500
TZNAME:EST
DTSTART:20251102T060000
END:STANDARD
BEGIN:DAYLIGHT
TZOFFSETFROM:-0500
TZOFFSETTO:-0400
TZNAME:EDT
DTSTART:20260308T070000
END:DAYLIGHT
BEGIN:STANDARD
TZOFFSETFROM:-0400
TZOFFSETTO:-0500
TZNAME:EST
DTSTART:20261101T060000
END:STANDARD
BEGIN:DAYLIGHT
TZOFFSETFROM:-0500
TZOFFSETTO:-0400
TZNAME:EDT
DTSTART:20270314T070000
END:DAYLIGHT
BEGIN:STANDARD
TZOFFSETFROM:-0400
TZOFFSETTO:-0500
TZNAME:EST
DTSTART:20271107T060000
END:STANDARD
END:VTIMEZONE
BEGIN:VEVENT
DTSTART;TZID=America/Detroit:20260919T140000
DTEND;TZID=America/Detroit:20260919T180000
DTSTAMP:20260421T190606
CREATED:20260227T150305Z
LAST-MODIFIED:20260227T150305Z
UID:17935-1789826400-1789840800@www.paddleantrim.com
SUMMARY:Festival Day One Celebration
DESCRIPTION:Wrap up an incredible first day on the water at the 11th annual Paddle Antrim Festival with an evening of fun at Short’s Bellaire Beer Garden! This celebration is open to paddlers\, volunteers\, spectators\, and the entire community—everyone is welcome. \nEnjoy live music\, refreshing Short’s Brewing beverages\, and delicious food available for purchase\, all in a laid-back outdoor setting. It’s the perfect way to unwind and connect with fellow paddlers and festival-goers! \nCome raise a glass to a fantastic first day on the Chain of Lakes Water Trail! \nLearn more & plan your festival experience: www.paddleantrim.com/festival/
URL:https://www.paddleantrim.com/event/festival-day-one-celebration/
CATEGORIES:Paddle Antrim Festival
END:VEVENT
BEGIN:VEVENT
DTSTART;TZID=America/Detroit:20260920T140000
DTEND;TZID=America/Detroit:20260920T190000
DTSTAMP:20260421T190606
CREATED:20260227T150845Z
LAST-MODIFIED:20260227T151035Z
UID:17937-1789912800-1789930800@www.paddleantrim.com
SUMMARY:Paddle Antrim Festival Final Bash
DESCRIPTION:Whether you’re paddling\, spectating\, or just looking for a fun way to spend a September Saturday\, join us in Elk Rapids for the Paddle Antrim Festival Final Bash at Short’s Brewing Pull Barn! \nAfter two incredible days on the water\, we’re celebrating with our Top Sponsor\, Short’s Brewing\, alongside paddlers\, families\, and friends. Food available for purchase from local food trucks\, refreshing beverages\, live music\, and outdoor games in a laid-back\, festival-style atmosphere. \nGet full festival details: www.paddleantrim.com/festival
URL:https://www.paddleantrim.com/event/festival-final-bash/
LOCATION:Short’s Production Facility\, 211 Industrial Park\, Elk Rapids\, MI\, 49629\, United States
CATEGORIES:Paddle Antrim Festival
END:VEVENT
END:VCALENDAR