
BEGIN:VCALENDAR
VERSION:2.0
PRODID:-//Paddle Antrim - Antrim County Michigan - ECPv6.15.20//NONSGML v1.0//EN
CALSCALE:GREGORIAN
METHOD:PUBLISH
X-WR-CALNAME:Paddle Antrim - Antrim County Michigan
X-ORIGINAL-URL:https://www.paddleantrim.com
X-WR-CALDESC:Events for Paddle Antrim - Antrim County Michigan
REFRESH-INTERVAL;VALUE=DURATION:PT1H
X-Robots-Tag:noindex
X-PUBLISHED-TTL:PT1H
BEGIN:VTIMEZONE
TZID:America/Detroit
BEGIN:DAYLIGHT
TZOFFSETFROM:-0500
TZOFFSETTO:-0400
TZNAME:EDT
DTSTART:20240310T070000
END:DAYLIGHT
BEGIN:STANDARD
TZOFFSETFROM:-0400
TZOFFSETTO:-0500
TZNAME:EST
DTSTART:20241103T060000
END:STANDARD
BEGIN:DAYLIGHT
TZOFFSETFROM:-0500
TZOFFSETTO:-0400
TZNAME:EDT
DTSTART:20250309T070000
END:DAYLIGHT
BEGIN:STANDARD
TZOFFSETFROM:-0400
TZOFFSETTO:-0500
TZNAME:EST
DTSTART:20251102T060000
END:STANDARD
BEGIN:DAYLIGHT
TZOFFSETFROM:-0500
TZOFFSETTO:-0400
TZNAME:EDT
DTSTART:20260308T070000
END:DAYLIGHT
BEGIN:STANDARD
TZOFFSETFROM:-0400
TZOFFSETTO:-0500
TZNAME:EST
DTSTART:20261101T060000
END:STANDARD
END:VTIMEZONE
BEGIN:VEVENT
DTSTART;TZID=America/Detroit:20250513T170000
DTEND;TZID=America/Detroit:20250513T180000
DTSTAMP:20260421T185721
CREATED:20250417T165623Z
LAST-MODIFIED:20250422T135840Z
UID:6138-1747155600-1747159200@www.paddleantrim.com
SUMMARY:Volunteer Gathering at Short's Bellaire Pub
DESCRIPTION:Join us for a fun and informal Volunteer Gathering at Short’s Brewing Bellaire Pub on Tuesday\, May 13 from 5:00–6:00 PM! Whether you’ve volunteered with us for years or are simply curious about how you can get involved\, this is a great opportunity to learn more about Paddle Antrim’s work and how you can support our mission. \nWe’ll share details about upcoming volunteer opportunities\, answer any questions you might have\, and give you a chance to connect with fellow volunteers. Enjoy the welcoming atmosphere of Short’s Pub\, grab a drink if you’d like\, and spend an hour with a great group of people making a difference on and off the water. \nWe’d love to see you there—bring a friend and come say hello!
URL:https://www.paddleantrim.com/event/volunteer-gathering-at-shorts-bellaire-pub/
LOCATION:Short’s Brewing Co Pub\, 121 N. Bridge St\, Bellaire\, MI\, 49615\, United States
CATEGORIES:volunteer event
ATTACH;FMTTYPE=image/png:https://www.paddleantrim.com/wp-content/uploads/2025/04/Volunteer-Gathering-Website.png
END:VEVENT
END:VCALENDAR