
BEGIN:VCALENDAR
VERSION:2.0
PRODID:-//Paddle Antrim - Antrim County Michigan - ECPv6.15.20//NONSGML v1.0//EN
CALSCALE:GREGORIAN
METHOD:PUBLISH
X-ORIGINAL-URL:https://www.paddleantrim.com
X-WR-CALDESC:Events for Paddle Antrim - Antrim County Michigan
REFRESH-INTERVAL;VALUE=DURATION:PT1H
X-Robots-Tag:noindex
X-PUBLISHED-TTL:PT1H
BEGIN:VTIMEZONE
TZID:America/Detroit
BEGIN:DAYLIGHT
TZOFFSETFROM:-0500
TZOFFSETTO:-0400
TZNAME:EDT
DTSTART:20170312T070000
END:DAYLIGHT
BEGIN:STANDARD
TZOFFSETFROM:-0400
TZOFFSETTO:-0500
TZNAME:EST
DTSTART:20171105T060000
END:STANDARD
BEGIN:DAYLIGHT
TZOFFSETFROM:-0500
TZOFFSETTO:-0400
TZNAME:EDT
DTSTART:20180311T070000
END:DAYLIGHT
BEGIN:STANDARD
TZOFFSETFROM:-0400
TZOFFSETTO:-0500
TZNAME:EST
DTSTART:20181104T060000
END:STANDARD
BEGIN:DAYLIGHT
TZOFFSETFROM:-0500
TZOFFSETTO:-0400
TZNAME:EDT
DTSTART:20190310T070000
END:DAYLIGHT
BEGIN:STANDARD
TZOFFSETFROM:-0400
TZOFFSETTO:-0500
TZNAME:EST
DTSTART:20191103T060000
END:STANDARD
END:VTIMEZONE
BEGIN:VEVENT
DTSTART;TZID=America/Detroit:20180828T180000
DTEND;TZID=America/Detroit:20180828T193000
DTSTAMP:20260419T114008
CREATED:20180529T131117Z
LAST-MODIFIED:20180529T131117Z
UID:1550-1535479200-1535484600@www.paddleantrim.com
SUMMARY:Kewadin Community Paddle
DESCRIPTION:Grab your paddleboard\, kayak\, or canoe and join Paddle Antrim for an amazing evening paddle on Northern Elk Lake. This slow paddle will begin at Milton Township Park (7263 Cairn Hwy) at the only universal access launch on the Chain of Lakes. Meet at 6:00 pm to check in and we will launch promptly as a group at 6:30 pm. Paddle Antrim encourage all ages and types of paddle crafts to join us on the water for these slow paddles. These paddles last approximately one hour on the water\, are free\, and no pre-registration is required.  All paddlers must bring their own craft/boat\, paddle\, and pfd (life jacket). As with all Paddle Antrim events\, pfds must be properly worn at all times. All ages are welcome but children under 18 must be accompanied by an adult out on the water.
URL:https://www.paddleantrim.com/event/kewadin-community-paddle/
LOCATION:Milton Township Waterfront Park\, 7263 Cairn Hwy\, Kewadin\, MI\, 49648\, United States
CATEGORIES:Community Paddle
ATTACH;FMTTYPE=:
ORGANIZER;CN="Paddle Antrim":MAILTO:info@paddleantrim.com
END:VEVENT
BEGIN:VEVENT
DTSTART;TZID=America/Detroit:20180815T183000
DTEND;TZID=America/Detroit:20180815T200000
DTSTAMP:20260419T114008
CREATED:20180315T234508Z
LAST-MODIFIED:20180315T234508Z
UID:1480-1534357800-1534363200@www.paddleantrim.com
SUMMARY:Bellaire Evening Paddle
DESCRIPTION:Grab your paddleboard\, kayak or paddle craft of choice and join Paddle Antrim for an amazing evening paddle on the Intermediate River as a lead up to Bellaire’s Rubber Ducky Festival. This hour long slow paddle will begin at Bellaire’s Intermediate River at 6:30 pm to check in and we will launch promptly as a group at 7:00 pm. Paddle Antrim encourage all ages and types of paddle crafts to join us on the water for these slow paddles. These paddles last approximately one hour on the water\, are free\, and no pre-registration is required.  All paddlers must bring their own craft/boat\, paddle\, and pfd (life jacket). As with all Paddle Antrim events\, pfds must be properly worn at all times. All ages are welcome but children under 18 must be accompanied by an adult out on the water.
URL:https://www.paddleantrim.com/event/bellaire-evening-paddle/
LOCATION:Richardi Park\, 100 E Antrim St\, Bellaire\, MI\, 49615\, United States
CATEGORIES:Community Paddle
ATTACH;FMTTYPE=:
ORGANIZER;CN="Paddle Antrim":MAILTO:info@paddleantrim.com
END:VEVENT
BEGIN:VEVENT
DTSTART;TZID=America/Detroit:20180801T190000
DTEND;TZID=America/Detroit:20180801T203000
DTSTAMP:20260419T114008
CREATED:20180315T192629Z
LAST-MODIFIED:20180315T192629Z
UID:1478-1533150000-1533155400@www.paddleantrim.com
SUMMARY:Elk Rapids Sunset Paddle
DESCRIPTION:Grab your paddleboard\, kayak or paddle craft of choice and join Paddle Antrim for an amazing sunset paddle on Grand Traverse Bay as part of Elk Rapids Harbor Days. This hour long slow paddle will begin at Elk Rapid’s Dam Beach at 7:00 pm to check in and we will launch promptly as a group at 7:30 pm. Paddle Antrim encourage all ages and types of paddle crafts to join us on the water for these slow paddles. These paddles last approximately one hour on the water\, are free\, and no pre-registration is required.  All paddlers must bring their own craft/boat\, paddle\, and pfd (life jacket). As with all Paddle Antrim events\, pfds must be properly worn at all times. All ages are welcome but children under 18 must be accompanied by an adult out on the water.
URL:https://www.paddleantrim.com/event/elk-rapids-sunset-paddle/
LOCATION:Dam Beach\, Dam Rd\, Elk Rapids\, MI\, 49629\, United States
CATEGORIES:Community Paddle
ATTACH;FMTTYPE=:
ORGANIZER;CN="Paddle Antrim":MAILTO:info@paddleantrim.com
END:VEVENT
BEGIN:VEVENT
DTSTART;TZID=America/Detroit:20180702T083000
DTEND;TZID=America/Detroit:20180702T100000
DTSTAMP:20260419T114008
CREATED:20180430T162216Z
LAST-MODIFIED:20180430T162216Z
UID:1539-1530520200-1530525600@www.paddleantrim.com
SUMMARY:Central Lake Community Paddle
DESCRIPTION:Grab your paddleboard\, kayak\, or canoe and join Paddle Antrim for an amazing morning paddle out of Central Lake. This hour-long slow paddle will begin at Central Lake’s Bradford St Boat Launch (just south of the Thurston Park Campground) at 8:30 am to check in and we will launch promptly as a group at 9:00 am. Paddle Antrim encourage all ages and types of paddle crafts to join us on the water for these slow paddles. These paddles last approximately one hour on the water\, are free\, and no pre-registration is required.  All paddlers must bring their own craft/boat\, paddle\, and pfd (life jacket). As with all Paddle Antrim events\, pfds must be properly worn at all times. All ages are welcome but children under 18 must be accompanied by an adult out on the water.
URL:https://www.paddleantrim.com/event/central-lake-community-paddle/
LOCATION:Bradford St Boat Launch\, Central Lake\, 7854 Bradford St\, Central Lake\, MI\, 49622\, United States
CATEGORIES:Community Paddle
ATTACH;FMTTYPE=:
ORGANIZER;CN="Paddle Antrim":MAILTO:info@paddleantrim.com
END:VEVENT
BEGIN:VEVENT
DTSTART;TZID=America/Detroit:20180615T183000
DTEND;TZID=America/Detroit:20180615T200000
DTSTAMP:20260419T114008
CREATED:20180315T191722Z
LAST-MODIFIED:20180315T191722Z
UID:1476-1529087400-1529092800@www.paddleantrim.com
SUMMARY:Ellsworth Pig Roast Community Paddle
DESCRIPTION:Grab your paddleboard\, kayak\, or canoe and join Paddle Antrim for an amazing evening paddle on Ellsworth Lake as part of the Ellsworth Pig Roast Celebration. This hour-long slow paddle will begin at Ellsworth’s River Park (Rushton Rd/Bridge St) at 6:30 pm to check in and we will launch promptly as a group at 7:00 pm. Paddle Antrim encourage all ages and types of paddle crafts to join us on the water for these slow paddles. These paddles last approximately one hour on the water\, are free\, and no pre-registration is required.  All paddlers must bring their own craft/boat\, paddle\, and pfd (life jacket). As with all Paddle Antrim events\, pfds must be properly worn at all times. All ages are welcome but children under 18 must be accompanied by an adult out on the water.
URL:https://www.paddleantrim.com/event/ellsworth-pig-roast-community-paddle/
LOCATION:Ellsworth River Park\, 6625 Bridge St\, Ellsworth\, MI\, 49279\, United States
CATEGORIES:Community Paddle
ATTACH;FMTTYPE=:
ORGANIZER;CN="Paddle Antrim":MAILTO:info@paddleantrim.com
END:VEVENT
END:VCALENDAR