
BEGIN:VCALENDAR
VERSION:2.0
PRODID:-//Paddle Antrim - Antrim County Michigan - ECPv6.15.20//NONSGML v1.0//EN
CALSCALE:GREGORIAN
METHOD:PUBLISH
X-ORIGINAL-URL:https://www.paddleantrim.com
X-WR-CALDESC:Events for Paddle Antrim - Antrim County Michigan
REFRESH-INTERVAL;VALUE=DURATION:PT1H
X-Robots-Tag:noindex
X-PUBLISHED-TTL:PT1H
BEGIN:VTIMEZONE
TZID:America/Detroit
BEGIN:DAYLIGHT
TZOFFSETFROM:-0500
TZOFFSETTO:-0400
TZNAME:EDT
DTSTART:20240310T070000
END:DAYLIGHT
BEGIN:STANDARD
TZOFFSETFROM:-0400
TZOFFSETTO:-0500
TZNAME:EST
DTSTART:20241103T060000
END:STANDARD
BEGIN:DAYLIGHT
TZOFFSETFROM:-0500
TZOFFSETTO:-0400
TZNAME:EDT
DTSTART:20250309T070000
END:DAYLIGHT
BEGIN:STANDARD
TZOFFSETFROM:-0400
TZOFFSETTO:-0500
TZNAME:EST
DTSTART:20251102T060000
END:STANDARD
BEGIN:DAYLIGHT
TZOFFSETFROM:-0500
TZOFFSETTO:-0400
TZNAME:EDT
DTSTART:20260308T070000
END:DAYLIGHT
BEGIN:STANDARD
TZOFFSETFROM:-0400
TZOFFSETTO:-0500
TZNAME:EST
DTSTART:20261101T060000
END:STANDARD
END:VTIMEZONE
BEGIN:VEVENT
DTSTART;TZID=America/Detroit:20250820T183000
DTEND;TZID=America/Detroit:20250820T200000
DTSTAMP:20260419T202338
CREATED:20250417T160527Z
LAST-MODIFIED:20250417T161513Z
UID:6131-1755714600-1755720000@www.paddleantrim.com
SUMMARY:Central Lake Community Paddle
DESCRIPTION:Grab your paddleboard\, kayak\, or canoe and join Paddle Antrim for an amazing evening paddle out of Central Lake. This hour-long slow paddle will meet at Central Lake’s Thurston Park\, near the pavilion at we will launch promptly at 6:30 pm\, so please arrive early to allow time for unloading and parking. \nWe encourage all ages and types of paddle crafts to join us on the water for our  slow paddles. Community paddles last approximately one hour on the water\, are free\, and no pre-registration is required. All paddlers must bring their own craft/boat\, paddle\, and pfd (life jacket). As with all Paddle Antrim events\, pfds must be properly worn at all times. All ages are welcome but children under 18 must be accompanied by an adult out on the water. \nAll paddlers must complete a paddling event waiver prior to participation. Waivers can be viewed and signed digitally. \nComplete Waiver \nTo protect our waters\, anytime you change waterways you should ALWAYS Clean\, Drain\, and Dry your boat and gear to prevent the spread of invasive species. Before joining us out on the water\, we ask that you Clean\, Drain\, Dry your boat and gear. To wash your own boat\, check out this link . We recently had New Zealand Mud Snails found in our waterways and hope everyone will do their part to protect our lakes/rivers.
URL:https://www.paddleantrim.com/event/central-lake-community-paddle-6/
LOCATION:Thurston Park\, 7854 E Bradford St\,\, Central Lake\, 49622
CATEGORIES:Community Paddle
ATTACH;FMTTYPE=image/png:https://www.paddleantrim.com/wp-content/uploads/2025/04/Central-Lake-Comm-Paddle_website.png
END:VEVENT
END:VCALENDAR