
BEGIN:VCALENDAR
VERSION:2.0
PRODID:-//Paddle Antrim - Antrim County Michigan - ECPv6.15.20//NONSGML v1.0//EN
CALSCALE:GREGORIAN
METHOD:PUBLISH
X-ORIGINAL-URL:https://www.paddleantrim.com
X-WR-CALDESC:Events for Paddle Antrim - Antrim County Michigan
REFRESH-INTERVAL;VALUE=DURATION:PT1H
X-Robots-Tag:noindex
X-PUBLISHED-TTL:PT1H
BEGIN:VTIMEZONE
TZID:America/Detroit
BEGIN:DAYLIGHT
TZOFFSETFROM:-0500
TZOFFSETTO:-0400
TZNAME:EDT
DTSTART:20240310T070000
END:DAYLIGHT
BEGIN:STANDARD
TZOFFSETFROM:-0400
TZOFFSETTO:-0500
TZNAME:EST
DTSTART:20241103T060000
END:STANDARD
BEGIN:DAYLIGHT
TZOFFSETFROM:-0500
TZOFFSETTO:-0400
TZNAME:EDT
DTSTART:20250309T070000
END:DAYLIGHT
BEGIN:STANDARD
TZOFFSETFROM:-0400
TZOFFSETTO:-0500
TZNAME:EST
DTSTART:20251102T060000
END:STANDARD
BEGIN:DAYLIGHT
TZOFFSETFROM:-0500
TZOFFSETTO:-0400
TZNAME:EDT
DTSTART:20260308T070000
END:DAYLIGHT
BEGIN:STANDARD
TZOFFSETFROM:-0400
TZOFFSETTO:-0500
TZNAME:EST
DTSTART:20261101T060000
END:STANDARD
END:VTIMEZONE
BEGIN:VEVENT
DTSTART;TZID=America/Detroit:20250801T090000
DTEND;TZID=America/Detroit:20250801T103000
DTSTAMP:20260419T202337
CREATED:20250410T164453Z
LAST-MODIFIED:20250729T180221Z
UID:6108-1754038800-1754044200@www.paddleantrim.com
SUMMARY:Elk Rapids Harbor Days Community Paddle
DESCRIPTION:Grab your paddleboard\, kayak or paddle craft of choice and join Paddle Antrim for an amazing evening paddle on the Elk River to celebrate Elk Rapids Harbor Days. \nThis hour long slow paddle will begin at Elk Rapid’s Rotary Park at 9:00 am – please arrive a few minutes early to allow time to unload your paddle craft and park. We will launch as a group and paddle out and back – returning at 10:30 am.   \nPaddle Antrim encourage all ages and types of paddle crafts to join us on the water for these slow paddles. These paddles last approximately one hour on the water\, are free\, and no pre-registration is required. \nAll paddlers must bring their own craft/boat\, paddle\, and pfd (life jacket). As with all Paddle Antrim events\, pfds must be properly worn at all times. All ages are welcome but children under 18 must be accompanied by an adult out on the water. \nAll paddlers must complete a paddling event waiver prior to participation. Waivers can be viewed and signed digitally. \nComplete Waiver \nTo protect our waters\, anytime you change waterways you should ALWAYS Clean\, Drain\, and Dry your boat and gear to prevent the spread of invasive species. Before joining us out on the water\, we ask that you Clean\, Drain\, Dry your boat and gear. To wash your own boat\, check out this link . We recently had New Zealand Mud Snails found in our waterways and hope everyone will do their part to protect our lakes/rivers.
URL:https://www.paddleantrim.com/event/elk-rapids-harbor-days-community-paddle-2025/
LOCATION:Elk Rapids Rotary Park\, 305 US-31\, Elk Rapids\, MI\, 49629\, United States
CATEGORIES:Community Paddle
ATTACH;FMTTYPE=image/png:https://www.paddleantrim.com/wp-content/uploads/2025/04/Harbor-Days-Comm-Paddle-1.png
END:VEVENT
END:VCALENDAR