
BEGIN:VCALENDAR
VERSION:2.0
PRODID:-//Paddle Antrim - Antrim County Michigan - ECPv6.15.20//NONSGML v1.0//EN
CALSCALE:GREGORIAN
METHOD:PUBLISH
X-ORIGINAL-URL:https://www.paddleantrim.com
X-WR-CALDESC:Events for Paddle Antrim - Antrim County Michigan
REFRESH-INTERVAL;VALUE=DURATION:PT1H
X-Robots-Tag:noindex
X-PUBLISHED-TTL:PT1H
BEGIN:VTIMEZONE
TZID:America/Detroit
BEGIN:DAYLIGHT
TZOFFSETFROM:-0500
TZOFFSETTO:-0400
TZNAME:EDT
DTSTART:20240310T070000
END:DAYLIGHT
BEGIN:STANDARD
TZOFFSETFROM:-0400
TZOFFSETTO:-0500
TZNAME:EST
DTSTART:20241103T060000
END:STANDARD
BEGIN:DAYLIGHT
TZOFFSETFROM:-0500
TZOFFSETTO:-0400
TZNAME:EDT
DTSTART:20250309T070000
END:DAYLIGHT
BEGIN:STANDARD
TZOFFSETFROM:-0400
TZOFFSETTO:-0500
TZNAME:EST
DTSTART:20251102T060000
END:STANDARD
BEGIN:DAYLIGHT
TZOFFSETFROM:-0500
TZOFFSETTO:-0400
TZNAME:EDT
DTSTART:20260308T070000
END:DAYLIGHT
BEGIN:STANDARD
TZOFFSETFROM:-0400
TZOFFSETTO:-0500
TZNAME:EST
DTSTART:20261101T060000
END:STANDARD
END:VTIMEZONE
BEGIN:VEVENT
DTSTART;TZID=America/Detroit:20250531T140000
DTEND;TZID=America/Detroit:20250531T170000
DTSTAMP:20260419T223707
CREATED:20250310T181525Z
LAST-MODIFIED:20250506T134603Z
UID:6000-1748700000-1748710800@www.paddleantrim.com
SUMMARY:Pure Michigan Water Trail Designation & Season Kickoff Celebration.
DESCRIPTION:Join us on Saturday\, May 31\, at Bellaire’s Richardi Park to celebrate our recent designation as a Pure Michigan Water Trail and and to kick off the paddling season. We will paddle the Intermediate River\, followed by a gathering at Short’s Beer Garden. We look forward to kicking off the paddling season with friends and supporters. The community paddle portion of this event will run from 2:00 – 3:30 pm\, followed by a gathering at Short’s Beer Garden just down the road from 3:30 – 5:00 pm. This event is free and open to the public.\n \n2:00 – 3:30 pm – Community Paddle launching from Richardi Park at 2:00 pm (E Antrim St\, Bellaire\, MI 49615)\n \n3:30 – 5:00 pm – Pure Michigan Water Trail designation celebration at Short’s Beer Garden (118 N Bridge St\, Bellaire\, MI 49615)\n \nAll paddlers must bring their own craft/boat\, paddle\, and pfd (life jacket). As with all Paddle Antrim events\, pfds must be properly worn at all times. All ages are welcome but children under 18 must be accompanied by an adult out on the water.\n \nAll paddlers must complete a paddling event waiver prior to participation.\nComplete Waiver\n 
URL:https://www.paddleantrim.com/event/season-kickoff-paddle-gathering/
LOCATION:Richardi Park\, 100 E Antrim St\, Bellaire\, MI\, 49615\, United States
CATEGORIES:Community Paddle
ATTACH;FMTTYPE=image/png:https://www.paddleantrim.com/wp-content/uploads/2025/03/Kick-off-paddle-event-cover.png
END:VEVENT
END:VCALENDAR