
BEGIN:VCALENDAR
VERSION:2.0
PRODID:-//Paddle Antrim - Antrim County Michigan - ECPv6.15.20//NONSGML v1.0//EN
CALSCALE:GREGORIAN
METHOD:PUBLISH
X-ORIGINAL-URL:https://www.paddleantrim.com
X-WR-CALDESC:Events for Paddle Antrim - Antrim County Michigan
REFRESH-INTERVAL;VALUE=DURATION:PT1H
X-Robots-Tag:noindex
X-PUBLISHED-TTL:PT1H
BEGIN:VTIMEZONE
TZID:America/Detroit
BEGIN:DAYLIGHT
TZOFFSETFROM:-0500
TZOFFSETTO:-0400
TZNAME:EDT
DTSTART:20250309T070000
END:DAYLIGHT
BEGIN:STANDARD
TZOFFSETFROM:-0400
TZOFFSETTO:-0500
TZNAME:EST
DTSTART:20251102T060000
END:STANDARD
BEGIN:DAYLIGHT
TZOFFSETFROM:-0500
TZOFFSETTO:-0400
TZNAME:EDT
DTSTART:20260308T070000
END:DAYLIGHT
BEGIN:STANDARD
TZOFFSETFROM:-0400
TZOFFSETTO:-0500
TZNAME:EST
DTSTART:20261101T060000
END:STANDARD
BEGIN:DAYLIGHT
TZOFFSETFROM:-0500
TZOFFSETTO:-0400
TZNAME:EDT
DTSTART:20270314T070000
END:DAYLIGHT
BEGIN:STANDARD
TZOFFSETFROM:-0400
TZOFFSETTO:-0500
TZNAME:EST
DTSTART:20271107T060000
END:STANDARD
END:VTIMEZONE
BEGIN:VEVENT
DTSTART;TZID=America/Detroit:20260918T140000
DTEND;TZID=America/Detroit:20260918T190000
DTSTAMP:20260421T163346
CREATED:20260227T145859Z
LAST-MODIFIED:20260227T211144Z
UID:17933-1789740000-1789758000@www.paddleantrim.com
SUMMARY:Paddle Antrim Festival Kick-off Party and Expo
DESCRIPTION:Kick off the Paddle Antrim Festival in Ellsworth! \nStart your Paddle Antrim Festival adventure at River Park in Ellsworth (6625 Bridge St) on  Friday night with a vibrant community celebration! This event is free and open to everyone—paddlers\, locals\, and visitors alike. \nEnjoy a relaxing afternoon/evening by the water. Come early for a boat demo and to explore the Kick-off Party Expo\, starting at 2 pm. Stick around for great company\, live music\, and delicious food from a local food truck\, courtesy of the Village of Ellsworth and the East Jordan Chamber of Commerce. It’s the perfect way to soak in the festival spirit before hitting the water! \n2:00 – 7:00 pm  \n\nPaddle Expo\nBoat demos\nPaddler Check-in\, boat drop off\nBoat wash station\n\n5:00 pm – 7:00 pm \n\nNA happy hour\nLive music\nFood truck\nGiveaways\n\nDon’t miss this fun-filled kickoff to one of Michigan’s best paddling festivals! \nLearn more & plan your festival experience: www.paddleantrim.com/festival/
URL:https://www.paddleantrim.com/event/paddle-antrim-festival-kick-off-party-and-expo/
LOCATION:River Park\, 6625 Bridge St\, Ellsworth\, MI\, 49729\, United States
CATEGORIES:Paddle Antrim Festival
ATTACH;FMTTYPE=image/png:https://www.paddleantrim.com/wp-content/uploads/2026/02/Paddle-Antrim-Expo.png
END:VEVENT
END:VCALENDAR