
BEGIN:VCALENDAR
VERSION:2.0
PRODID:-//Paddle Antrim - Antrim County Michigan - ECPv6.15.20//NONSGML v1.0//EN
CALSCALE:GREGORIAN
METHOD:PUBLISH
X-WR-CALNAME:Paddle Antrim - Antrim County Michigan
X-ORIGINAL-URL:https://www.paddleantrim.com
X-WR-CALDESC:Events for Paddle Antrim - Antrim County Michigan
REFRESH-INTERVAL;VALUE=DURATION:PT1H
X-Robots-Tag:noindex
X-PUBLISHED-TTL:PT1H
BEGIN:VTIMEZONE
TZID:America/Detroit
BEGIN:DAYLIGHT
TZOFFSETFROM:-0500
TZOFFSETTO:-0400
TZNAME:EDT
DTSTART:20250309T070000
END:DAYLIGHT
BEGIN:STANDARD
TZOFFSETFROM:-0400
TZOFFSETTO:-0500
TZNAME:EST
DTSTART:20251102T060000
END:STANDARD
BEGIN:DAYLIGHT
TZOFFSETFROM:-0500
TZOFFSETTO:-0400
TZNAME:EDT
DTSTART:20260308T070000
END:DAYLIGHT
BEGIN:STANDARD
TZOFFSETFROM:-0400
TZOFFSETTO:-0500
TZNAME:EST
DTSTART:20261101T060000
END:STANDARD
BEGIN:DAYLIGHT
TZOFFSETFROM:-0500
TZOFFSETTO:-0400
TZNAME:EDT
DTSTART:20270314T070000
END:DAYLIGHT
BEGIN:STANDARD
TZOFFSETFROM:-0400
TZOFFSETTO:-0500
TZNAME:EST
DTSTART:20271107T060000
END:STANDARD
END:VTIMEZONE
BEGIN:VEVENT
DTSTART;TZID=America/Detroit:20260212T160000
DTEND;TZID=America/Detroit:20260212T173000
DTSTAMP:20260421T194202
CREATED:20260210T175522Z
LAST-MODIFIED:20260210T175620Z
UID:17919-1770912000-1770917400@www.paddleantrim.com
SUMMARY:Volunteer Happy Hour
DESCRIPTION:Curious about volunteering with Paddle Antrim and meeting a wonderful group of current volunteers? We invite prospective and current volunteers to join us for a Volunteer Happy Hour Thursday\, February 12\, from 4:00–5:30 pm at Short’s Pull Barn in Elk Rapids! We hope to see you soon!
URL:https://www.paddleantrim.com/event/volunteer-happy-hour/
LOCATION:Short’s Production Facility\, 211 Industrial Park\, Elk Rapids\, MI\, 49629\, United States
CATEGORIES:volunteer event
ATTACH;FMTTYPE=image/jpeg:https://www.paddleantrim.com/wp-content/uploads/2026/02/happyhour.jpg
ORGANIZER;CN="Paddle Antrim":MAILTO:info@paddleantrim.com
END:VEVENT
END:VCALENDAR